BEGIN:VCALENDAR
VERSION:2.0
PRODID:-//Gymnasium Markranstädt - ECPv6.15.18//NONSGML v1.0//EN
CALSCALE:GREGORIAN
METHOD:PUBLISH
X-WR-CALNAME:Gymnasium Markranstädt
X-ORIGINAL-URL:https://markranstaedt-gymnasium.de
X-WR-CALDESC:Veranstaltungen für Gymnasium Markranstädt
REFRESH-INTERVAL;VALUE=DURATION:PT1H
X-Robots-Tag:noindex
X-PUBLISHED-TTL:PT1H
BEGIN:VTIMEZONE
TZID:Europe/Berlin
BEGIN:DAYLIGHT
TZOFFSETFROM:+0100
TZOFFSETTO:+0200
TZNAME:CEST
DTSTART:20250330T010000
END:DAYLIGHT
BEGIN:STANDARD
TZOFFSETFROM:+0200
TZOFFSETTO:+0100
TZNAME:CET
DTSTART:20251026T010000
END:STANDARD
BEGIN:DAYLIGHT
TZOFFSETFROM:+0100
TZOFFSETTO:+0200
TZNAME:CEST
DTSTART:20260329T010000
END:DAYLIGHT
BEGIN:STANDARD
TZOFFSETFROM:+0200
TZOFFSETTO:+0100
TZNAME:CET
DTSTART:20261025T010000
END:STANDARD
BEGIN:DAYLIGHT
TZOFFSETFROM:+0100
TZOFFSETTO:+0200
TZNAME:CEST
DTSTART:20270328T010000
END:DAYLIGHT
BEGIN:STANDARD
TZOFFSETFROM:+0200
TZOFFSETTO:+0100
TZNAME:CET
DTSTART:20271031T010000
END:STANDARD
END:VTIMEZONE
BEGIN:VEVENT
DTSTART;VALUE=DATE:20260421
DTEND;VALUE=DATE:20260422
DTSTAMP:20260421T041548
CREATED:20260410T202038Z
LAST-MODIFIED:20260410T202038Z
UID:4673-1776729600-1776815999@markranstaedt-gymnasium.de
SUMMARY:schriftliche Abiturprüfung Geschichte
DESCRIPTION:Wir wünschen unseren Abiturientinnen und Abiturienten viel Erfolg bei ihren Prüfungen.
URL:https://markranstaedt-gymnasium.de/veranstaltung/schriftliche-abiturpruefung-geschichte-2/
ATTACH;FMTTYPE=image/jpeg:https://markranstaedt-gymnasium.de/wp-content/uploads/Abiturpruefungen.jpg
END:VEVENT
BEGIN:VEVENT
DTSTART;VALUE=DATE:20260422
DTEND;VALUE=DATE:20260423
DTSTAMP:20260421T041548
CREATED:20260410T202150Z
LAST-MODIFIED:20260410T202150Z
UID:4675-1776816000-1776902399@markranstaedt-gymnasium.de
SUMMARY:schriftliche Abiturprüfung Biologie
DESCRIPTION:Wir wünschen unseren Abiturientinnen und Abiturienten viel Erfolg bei ihren Prüfungen. \nBitte die entsprechenden Raumpläne beachten.
URL:https://markranstaedt-gymnasium.de/veranstaltung/schriftliche-abiturpruefung-biologie-2/
ATTACH;FMTTYPE=image/jpeg:https://markranstaedt-gymnasium.de/wp-content/uploads/Abiturpruefungen.jpg
END:VEVENT
BEGIN:VEVENT
DTSTART;VALUE=DATE:20260423
DTEND;VALUE=DATE:20260424
DTSTAMP:20260421T041548
CREATED:20260410T202216Z
LAST-MODIFIED:20260410T202216Z
UID:4677-1776902400-1776988799@markranstaedt-gymnasium.de
SUMMARY:schriftliche Abiturprüfung Physik
DESCRIPTION:Wir wünschen unseren Abiturientinnen und Abiturienten viel Erfolg bei ihren Prüfungen. \nBitte die entsprechenden Raumpläne beachten.
URL:https://markranstaedt-gymnasium.de/veranstaltung/schriftliche-abiturpruefung-physik-2/
ATTACH;FMTTYPE=image/jpeg:https://markranstaedt-gymnasium.de/wp-content/uploads/Abiturpruefungen.jpg
END:VEVENT
BEGIN:VEVENT
DTSTART;VALUE=DATE:20260423
DTEND;VALUE=DATE:20260424
DTSTAMP:20260421T041548
CREATED:20260410T215929Z
LAST-MODIFIED:20260410T221837Z
UID:4709-1776902400-1776988799@markranstaedt-gymnasium.de
SUMMARY:Girls'/Boys' Day
DESCRIPTION:Auch in diesem Jahr haben unsere Schülerinnen wieder die Gelegenheit\, einen Einblick in die Berufsfelder zu gewinnen\, die noch immer von Männern dominiert werden. Wie wäre es zum Beispiel einen Tag auf dem Luftrettungsstützpunkt des ADAC? Also Mädels\, los geht’s! \nAlle Infos zur Anmeldung und Orga unter https://www.girls-day.de/ \nNatürlich dürfen auch die Jungs zum Boys‘ Day. Bewerbungsschluss ist der 22.04.2026.
URL:https://markranstaedt-gymnasium.de/veranstaltung/girls-day-3/
ATTACH;FMTTYPE=image/webp:https://markranstaedt-gymnasium.de/wp-content/uploads/BDGDLogo_0.jpg-e1775859344769.webp
END:VEVENT
BEGIN:VEVENT
DTSTART;VALUE=DATE:20260424
DTEND;VALUE=DATE:20260425
DTSTAMP:20260421T041548
CREATED:20260410T202242Z
LAST-MODIFIED:20260410T202242Z
UID:4679-1776988800-1777075199@markranstaedt-gymnasium.de
SUMMARY:schriftliche Abiturprüfung Chemie
DESCRIPTION:Wir wünschen unseren Abiturientinnen und Abiturienten viel Erfolg bei ihren Prüfungen. \nBitte die entsprechenden Raumpläne beachten.
URL:https://markranstaedt-gymnasium.de/veranstaltung/schriftliche-abiturpruefung-chemie/
ATTACH;FMTTYPE=image/jpeg:https://markranstaedt-gymnasium.de/wp-content/uploads/Abiturpruefungen.jpg
END:VEVENT
BEGIN:VEVENT
DTSTART;VALUE=DATE:20260427
DTEND;VALUE=DATE:20260510
DTSTAMP:20260421T041548
CREATED:20260410T204536Z
LAST-MODIFIED:20260410T204536Z
UID:4690-1777248000-1778371199@markranstaedt-gymnasium.de
SUMMARY:Betriebspraktikum Klasse 9
DESCRIPTION:In den kommenden zwei Wochen schnuppern unsere neunten Klassen in ganz unterschiedliche Bereiche des Berufslebens. Auf motivierende Erfahrungen und inspirierende Perspektiven!
URL:https://markranstaedt-gymnasium.de/veranstaltung/betriebspraktikum-klasse-9-2/
ATTACH;FMTTYPE=image/png:https://markranstaedt-gymnasium.de/wp-content/uploads/2.png
END:VEVENT
BEGIN:VEVENT
DTSTART;VALUE=DATE:20260428
DTEND;VALUE=DATE:20260429
DTSTAMP:20260421T041548
CREATED:20260410T202341Z
LAST-MODIFIED:20260410T202341Z
UID:4681-1777334400-1777420799@markranstaedt-gymnasium.de
SUMMARY:schriftliche Abiturprüfung Deutsch
DESCRIPTION:Wir wünschen unseren Abiturientinnen und Abiturienten viel Erfolg bei ihren Prüfungen. \nBitte die entsprechenden Raumpläne beachten.
URL:https://markranstaedt-gymnasium.de/veranstaltung/schriftliche-abiturpruefung-deutsch/
ATTACH;FMTTYPE=image/jpeg:https://markranstaedt-gymnasium.de/wp-content/uploads/Abiturpruefungen.jpg
END:VEVENT
BEGIN:VEVENT
DTSTART;VALUE=DATE:20260429
DTEND;VALUE=DATE:20260430
DTSTAMP:20260421T041548
CREATED:20260410T202755Z
LAST-MODIFIED:20260410T202755Z
UID:4688-1777420800-1777507199@markranstaedt-gymnasium.de
SUMMARY:Abiturprüfung Englisch (sprachpraktischer Teil)
DESCRIPTION:Wir wünschen unseren Abiturientinnen und Abiturienten viel Erfolg bei ihren Prüfungen. \nBitte die entsprechenden Raumpläne beachten.
URL:https://markranstaedt-gymnasium.de/veranstaltung/abiturpruefung-englisch-sprachpraktischer-teil/
ATTACH;FMTTYPE=image/jpeg:https://markranstaedt-gymnasium.de/wp-content/uploads/Abiturpruefungen.jpg
END:VEVENT
BEGIN:VEVENT
DTSTART;VALUE=DATE:20260430
DTEND;VALUE=DATE:20260501
DTSTAMP:20260421T041548
CREATED:20260410T202403Z
LAST-MODIFIED:20260410T202403Z
UID:4683-1777507200-1777593599@markranstaedt-gymnasium.de
SUMMARY:schriftliche Abiturprüfung Englisch
DESCRIPTION:Wir wünschen unseren Abiturientinnen und Abiturienten viel Erfolg bei ihren Prüfungen. \nBitte die entsprechenden Raumpläne beachten.
URL:https://markranstaedt-gymnasium.de/veranstaltung/schriftliche-abiturpruefung-englisch-2/
ATTACH;FMTTYPE=image/jpeg:https://markranstaedt-gymnasium.de/wp-content/uploads/Abiturpruefungen.jpg
END:VEVENT
BEGIN:VEVENT
DTSTART;VALUE=DATE:20260506
DTEND;VALUE=DATE:20260507
DTSTAMP:20260421T041548
CREATED:20260410T202711Z
LAST-MODIFIED:20260410T202711Z
UID:4686-1778025600-1778111999@markranstaedt-gymnasium.de
SUMMARY:schriftliche Abiturprüfung Mathematik
DESCRIPTION:Wir wünschen unseren Abiturientinnen und Abiturienten viel Erfolg bei ihren Prüfungen. \nBitte die entsprechenden Raumpläne beachten.
URL:https://markranstaedt-gymnasium.de/veranstaltung/schriftliche-abiturpruefung-mathematik-2/
ATTACH;FMTTYPE=image/jpeg:https://markranstaedt-gymnasium.de/wp-content/uploads/Abiturpruefungen.jpg
END:VEVENT
BEGIN:VEVENT
DTSTART;TZID=Europe/Berlin:20260511T080000
DTEND;TZID=Europe/Berlin:20260511T140000
DTSTAMP:20260421T041548
CREATED:20250829T201854Z
LAST-MODIFIED:20250829T201854Z
UID:3795-1778486400-1778508000@markranstaedt-gymnasium.de
SUMMARY:Schulsprechstunde der Berufs- und Studienberatung
DESCRIPTION:Am heutigen Tag ist Frau Jochade von der Bundesagentur für Arbeit (Birgit.Jochade@arbeitsagentur.de) wieder im Haus und berät alle interessierten Schülerinnen und Schüler der Klassenstufen 9-12\, die Fragen zu ihrer beruflichen Zukunft haben. \nDie Anmeldung bzw. Buchung der Zeitslots erfolgt über die LernSax-Gruppe „Berufs- und Studienberatung“ oder direkt bei Frau Stiller. \nAlle Gespräche finden im Raum 05 statt.
URL:https://markranstaedt-gymnasium.de/veranstaltung/schulsprechstunde-der-berufs-und-studienberatung-13/
ATTACH;FMTTYPE=image/jpeg:https://markranstaedt-gymnasium.de/wp-content/uploads/Berufs-und-Studienberatung.jpg
END:VEVENT
BEGIN:VEVENT
DTSTART;VALUE=DATE:20260512
DTEND;VALUE=DATE:20260513
DTSTAMP:20260421T041548
CREATED:20260410T211252Z
LAST-MODIFIED:20260410T211252Z
UID:4697-1778544000-1778630399@markranstaedt-gymnasium.de
SUMMARY:mündlicher Prüfungstag
DESCRIPTION:Aufgrund der mündlichen Abiturprüfungen findet der Unterricht heute überwiegend im Homeschooling statt. Bitte die entsprechenden Pläne und Hinweise der Fachlehrkräfte beachten!
URL:https://markranstaedt-gymnasium.de/veranstaltung/muendlicher-pruefungstag-4/
ATTACH;FMTTYPE=image/jpeg:https://markranstaedt-gymnasium.de/wp-content/uploads/Abiturpruefungen.jpg
END:VEVENT
BEGIN:VEVENT
DTSTART;VALUE=DATE:20260518
DTEND;VALUE=DATE:20260519
DTSTAMP:20260421T041548
CREATED:20260410T211505Z
LAST-MODIFIED:20260410T211505Z
UID:4699-1779062400-1779148799@markranstaedt-gymnasium.de
SUMMARY:mündlicher Prüfungstag
DESCRIPTION:Aufgrund der mündlichen Abiturprüfungen findet der Unterricht heute überwiegend im Homeschooling statt. Bitte die entsprechenden Pläne und Hinweise der Fachlehrkräfte beachten!
URL:https://markranstaedt-gymnasium.de/veranstaltung/muendlicher-pruefungstag-5/
ATTACH;FMTTYPE=image/jpeg:https://markranstaedt-gymnasium.de/wp-content/uploads/Abiturpruefungen.jpg
END:VEVENT
BEGIN:VEVENT
DTSTART;VALUE=DATE:20260521
DTEND;VALUE=DATE:20260522
DTSTAMP:20260421T041548
CREATED:20260410T211558Z
LAST-MODIFIED:20260410T211558Z
UID:4702-1779321600-1779407999@markranstaedt-gymnasium.de
SUMMARY:mündlicher Prüfungstag
DESCRIPTION:Aufgrund der mündlichen Abiturprüfungen findet der Unterricht heute überwiegend im Homeschooling statt. Bitte die entsprechenden Pläne und Hinweise der Fachlehrkräfte beachten!
URL:https://markranstaedt-gymnasium.de/veranstaltung/muendlicher-pruefungstag-6/
ATTACH;FMTTYPE=image/jpeg:https://markranstaedt-gymnasium.de/wp-content/uploads/Abiturpruefungen.jpg
END:VEVENT
BEGIN:VEVENT
DTSTART;VALUE=DATE:20260521
DTEND;VALUE=DATE:20260522
DTSTAMP:20260421T041548
CREATED:20260410T213444Z
LAST-MODIFIED:20260410T213444Z
UID:4704-1779321600-1779407999@markranstaedt-gymnasium.de
SUMMARY:Museums-Exkursion Klasse 6.3
DESCRIPTION:
URL:https://markranstaedt-gymnasium.de/veranstaltung/museums-exkursion-klasse-6-3/
ATTACH;FMTTYPE=image/jpeg:https://markranstaedt-gymnasium.de/wp-content/uploads/peggy_marco-exhibition-1659447_1920-e1775856836722.jpg
END:VEVENT
BEGIN:VEVENT
DTSTART;TZID=Europe/Berlin:20260526T080000
DTEND;TZID=Europe/Berlin:20260526T170000
DTSTAMP:20260421T041548
CREATED:20260410T210924Z
LAST-MODIFIED:20260410T210924Z
UID:4695-1779782400-1779814800@markranstaedt-gymnasium.de
SUMMARY:freibeweglicher Ferientag
DESCRIPTION:Wir wünschen allen ein schönes verlängertes Wochenende!
URL:https://markranstaedt-gymnasium.de/veranstaltung/freibeweglicher-ferientag-4/
ATTACH;FMTTYPE=image/jpeg:https://markranstaedt-gymnasium.de/wp-content/uploads/Heute.jpg
END:VEVENT
BEGIN:VEVENT
DTSTART;VALUE=DATE:20260527
DTEND;VALUE=DATE:20260528
DTSTAMP:20260421T041548
CREATED:20260410T214533Z
LAST-MODIFIED:20260410T214533Z
UID:4707-1779840000-1779926399@markranstaedt-gymnasium.de
SUMMARY:Bio-Exkursion Klasse 11
DESCRIPTION:
URL:https://markranstaedt-gymnasium.de/veranstaltung/bio-exkursion-klasse-11/
ATTACH;FMTTYPE=image/jpeg:https://markranstaedt-gymnasium.de/wp-content/uploads/flowers-164754_1280.jpg
END:VEVENT
BEGIN:VEVENT
DTSTART;TZID=Europe/Berlin:20260610T080000
DTEND;TZID=Europe/Berlin:20260617T140000
DTSTAMP:20260421T041548
CREATED:20250829T201005Z
LAST-MODIFIED:20250829T201805Z
UID:3791-1781078400-1781704800@markranstaedt-gymnasium.de
SUMMARY:Berufs- und Studienberatung (Klasse 11)
DESCRIPTION:In dieser Woche setzen sich unsere Schülerinnen und Schüler der 11. Klasse intensiv damit auseinander\, wie es für sie nach dem Abitur weitergehen soll. \nUnterstützt werden Sie dabei von Frau Joachde von der Bundesagentur für Arbeit\, die ihne als Expterin mit Rat und Tat zur Seite steht.
URL:https://markranstaedt-gymnasium.de/veranstaltung/schulsprechstunde-der-berufs-und-studienberatung-12/
ATTACH;FMTTYPE=image/jpeg:https://markranstaedt-gymnasium.de/wp-content/uploads/Berufs-und-Studienberatung.jpg
END:VEVENT
END:VCALENDAR